BEGIN:VCALENDAR
VERSION:2.0
PRODID:-//Belhus Park Chapel - ECPv6.15.14//NONSGML v1.0//EN
CALSCALE:GREGORIAN
METHOD:PUBLISH
X-ORIGINAL-URL:https://www.belhusparkchapel.co.uk
X-WR-CALDESC:Events for Belhus Park Chapel
REFRESH-INTERVAL;VALUE=DURATION:PT1H
X-Robots-Tag:noindex
X-PUBLISHED-TTL:PT1H
BEGIN:VTIMEZONE
TZID:UTC
BEGIN:STANDARD
TZOFFSETFROM:+0000
TZOFFSETTO:+0000
TZNAME:UTC
DTSTART:20250101T000000
END:STANDARD
END:VTIMEZONE
BEGIN:VEVENT
DTSTART;TZID=UTC:20261006T123000
DTEND;TZID=UTC:20261006T140000
DTSTAMP:20260424T220436
CREATED:20260119T103239Z
LAST-MODIFIED:20260119T103239Z
UID:13456-1791289800-1791295200@www.belhusparkchapel.co.uk
SUMMARY:Lunch Club
DESCRIPTION:free food provided
URL:https://www.belhusparkchapel.co.uk/calendar/lunch-club-37/2026-10-06/
LOCATION:Belhus Park Chapel
END:VEVENT
BEGIN:VEVENT
DTSTART;TZID=UTC:20261006T200000
DTEND;TZID=UTC:20261006T210000
DTSTAMP:20260424T220436
CREATED:20260119T103356Z
LAST-MODIFIED:20260119T103356Z
UID:13504-1791316800-1791320400@www.belhusparkchapel.co.uk
SUMMARY:Prayer Meeting (on Zoom)
DESCRIPTION:
URL:https://www.belhusparkchapel.co.uk/calendar/prayer-meeting-on-zoom-50/2026-10-06/
END:VEVENT
BEGIN:VEVENT
DTSTART;TZID=UTC:20261007T180000
DTEND;TZID=UTC:20261007T210000
DTSTAMP:20260424T220436
CREATED:20260119T103454Z
LAST-MODIFIED:20260119T103454Z
UID:13554-1791396000-1791406800@www.belhusparkchapel.co.uk
SUMMARY:Campaigners
DESCRIPTION:
URL:https://www.belhusparkchapel.co.uk/calendar/campaigners-38/2026-10-07/
LOCATION:Belhus Park Chapel
END:VEVENT
BEGIN:VEVENT
DTSTART;TZID=UTC:20261008T100000
DTEND;TZID=UTC:20261008T113000
DTSTAMP:20260424T220436
CREATED:20260119T103715Z
LAST-MODIFIED:20260119T103715Z
UID:13602-1791453600-1791459000@www.belhusparkchapel.co.uk
SUMMARY:Noah's Ark
DESCRIPTION:
URL:https://www.belhusparkchapel.co.uk/calendar/noahs-ark-39/2026-10-08/
LOCATION:Belhus Park Chapel
END:VEVENT
BEGIN:VEVENT
DTSTART;TZID=UTC:20261011T094500
DTEND;TZID=UTC:20261011T104500
DTSTAMP:20260424T220436
CREATED:20260119T102908Z
LAST-MODIFIED:20260119T102908Z
UID:13407-1791711900-1791715500@www.belhusparkchapel.co.uk
SUMMARY:Explorers
DESCRIPTION:
URL:https://www.belhusparkchapel.co.uk/calendar/explorers-3/2026-10-11/
LOCATION:Belhus Park Chapel
END:VEVENT
END:VCALENDAR